{"text_format":"1","workbook":"xlsx","n_sheets":1,"sheets":["Wegebau"],"not_rendered":{"charts":0,"images":0,"macros":1,"external_links":0,"defined_names":1,"comments":1,"pivot_tables":0},"unopened":[],"bounds":{"document_bytes":16777216,"sheet_cells":100000,"rows_first":2000,"rows_last":500,"rows_between":2000,"halvings":0,"cell_chars":16384,"cell_head_chars":4096},"cells_cut":0,"cells_raw":0,"read":"whole","date_system":"1900"}

{"sheet":"Wegebau","index":0,"n_rows":211,"n_cols":21,"rows_kept":211,"cut":false,"hidden":false,"merged":[[100,2,100,8],[100,12,100,18],[90,12,90,18],[91,2,91,8],[91,12,91,18],[92,2,92,8],[92,12,92,18],[93,2,93,8],[93,12,93,18],[94,2,94,4],[94,12,94,18],[85,5,85,8],[85,12,85,14],[85,15,85,18],[95,12,95,18],[97,11,99,18],[87,4,87,7],[68,2,68,7],[68,12,68,17],[71,1,71,6],[71,11,71,16],[73,1,73,6],[73,11,73,16],[74,2,74,8],[74,12,74,18],[81,2,81,8],[81,12,81,18],[82,2,82,8],[82,12,82,18],[83,2,84,8],[83,12,84,18],[85,2,85,4],[67,2,67,7],[67,12,67,17],[55,12,55,16],[56,2,56,8],[56,12,56,18],[60,2,60,5],[60,12,60,15],[61,2,61,7],[61,12,61,17],[62,2,62,7],[62,12,62,17],[63,2,63,7],[63,12,63,17],[64,2,64,7],[64,12,64,17],[65,2,65,7],[48,12,48,17],[49,2,49,7],[49,12,49,17],[66,2,66,7],[66,12,66,17],[65,12,65,17],[50,2,50,7],[50,12,50,17],[52,1,52,6],[52,11,52,16],[23,1,24,2],[24,4,24,8],[24,14,24,18],[26,4,26,8],[26,14,26,18],[40,5,40,8],[40,15,40,18],[42,2,42,8],[42,12,42,18],[47,2,47,7],[47,12,47,17],[48,2,48,7],[4,6,4,8],[4,16,4,18],[5,3,5,8],[5,13,5,18],[11,2,11,7],[11,11,11,18],[13,2,13,7],[13,11,13,18],[22,4,22,5],[22,7,22,8],[22,14,22,15],[22,17,22,18]]}
[]
[null,"     (Wegebau nach Wiederaufbaurichtlinie)"]
[]
[]
[null,"  zum Antrag vom",null,null,null,null,null,null,null,null,null,"  zum Verwendungsnachweis vom"]
[null,"  Antragsteller",null,null,null,null,null,null,null,null,null,"  Antragsteller",null,{"$f":"IF(D6=\"\",\"\",D6)","v":""}]
[]
[]
[]
[null,"  Geplante Maßnahmen: ",null,null,null,null,null,null,"jeweils ankreuzen, wenn ja",null,null,"  Durchführung wie geplant",null,null,null,null,null,"  (ja=J, nein=N, tlw.=T*)"]
[]
[null,null,"#   Maßnahme im Privatwald?"]
[]
[null,null,"#   Maßnahme im Körperschaftswald?"]
[]
[]
[]
[]
[null,"  (Art, Ort, Umfang, Durchf.-Zeitraum, Flächenermittlungsverfahren)","I.   ANTRAGSDATEN",null,null,null,null,null,null,null,null,"  I.  VERWENDUNGSNACHWEISDATEN"]
[null,"  (Art, Ort, Umfang, Durchf.-Zeitraum, Flächenermittlungsverfahren)",null,null,null,null,null,null,null,null,null,"  (Art, Ort, Umfang, Durchf.-Zeitraum, Flächenermittlungsverfahren)"]
[]
[null,"  Durchführungszeitraum",null,null,null,null,null,null,null,null,null,"  Durchführungszeitraum",null,null,null,null,null,null,{"$f":"IF(U211=FALSE,\"Abweichung begründen\",\"\")","v":""}]
[null,"  von …",null,null,null,null,"bis …",null,null,null,null,"  von …",null,null,null,null,"bis …"]
[null,"  Gemarkung"]
[null,null,null,null,null,null,null,null,null,null,null,"  Gemarkung",null,null,{"$f":"IF(ISBLANK(E25),\" \",IF($Q$10=\"J\",E25,IF($Q$10=\"T\",E25,\" \")))","v":" "}]
[]
[null,"  Flur / Flurstück",null,null,null,null,null,null,null,null,null,"  Flur / Flurstück",null,null,{"$f":"IF(ISBLANK(E27),\" \",IF($Q$10=\"J\",E27,IF($Q$10=\"T\",E27,\" \")))","v":" "}]
[]
[]
[null,"  Wegelänge","a) eigentliche Weglänge",null,null,null,null,null,"  lfd. Meter",null,null,"  Wegelänge","a) eigentliche Weglänge",null,null,null,null,{"$f":"IF($Q$10=\"J\",H30,IF($Q$10=\"T\",H30,\"\"))","v":""},"  lfd. Meter"]
[]
[null,null,"b) Wendeplatten",null,null,null,null,null,"  qm",null,null,null,"b) Wendeplatten",null,null,null,null,{"$f":"IF($Q$10=\"J\",H32,IF($Q$10=\"T\",H32,\"\"))","v":""},"  qm"]
[]
[null,null,"c) Brücken oder andere Querungen",null,null,null,null,{"$f":"IF(H32+H30=0,\"\",H30+H32)","v":""},"  lfd. Meter",null,null,null,"c) Brücken oder andere Querungen",null,null,null,null,{"$f":"IF($Q$10=\"J\",R30+R32,\n  IF($Q$10=\"T\",R30+R32,\"\"))","v":""},"  lfd. Meter"]
[]
[]
[]
[]
[null,"  Befestigungsbreite",null,null,null," Meter",null,null,null,null,null,"  Befestigungsbreite",null,null,{"$f":"IF($Q$10=\"J\",E39,IF($Q$10=\"T\",E39,\" \"))","v":" "}," Meter"]
[]
[null,"  Begründung (falls unter 3,50 m)",null,null,null,{"$f":"IF(E39=\"\",\"\",IF(E39>3.5,\" Befestigungsbreite begründen!  \",\" Befestigungsbreite ok.  \"))","v":""},null,null,null,null,null,"  Begründung (falls unter 3,50 m)",null,null,null,{"$f":"IF(O39=\" \",\" \",IF(O39>3.5,\" Befestigungsbreite begründen!  \",\" Befestigungsbreite ok.  \"))","v":" "}]
[]
[]
[]
[]
[null,"  Beantragte Vorarbeiten",null,null,null,null,null,null,null,null,null,"  Beantragte Vorarbeiten"]
[]
[null,null,"Antragspositionen",null,null,null,null,null,"Gesamt-\npreis in EUR\nohne MwSt",null,null,null,"Abgerechnete Positionen",null,null,null,null,null,"Gesamt-\npreis in EUR\nohne MwSt"]
[null,null,null,null,null,null,null,null,null,null,null,null,{"$f":"IF(C49=\"\",\"\",IF($Q$10=\"J\",C49,IF($Q$10=\"T\",C49,\"\")))","v":""},{"$f":"IF(#REF!=\"J\",D49,IF(#REF!=\"T\",D49,IF(SUM(N45:N47)=0,\"\",SUM(N45:N47))))","v":{"$error":"#REF!"}},{"$f":"IF(#REF!=\"J\",E49,IF(#REF!=\"T\",E49,IF(SUM(O45:O47)=0,\"\",SUM(O45:O47))))","v":{"$error":"#REF!"}},{"$f":"IF(#REF!=\"J\",F49,IF(#REF!=\"T\",F49,IF(SUM(P45:P47)=0,\"\",SUM(P45:P47))))","v":{"$error":"#REF!"}},{"$f":"IF(#REF!=\"J\",G49,IF(#REF!=\"T\",G49,IF(SUM(Q45:Q47)=0,\"\",SUM(Q45:Q47))))","v":{"$error":"#REF!"}},{"$f":"IF(#REF!=\"J\",H49,IF(#REF!=\"T\",H49,IF(SUM(R45:R47)=0,\"\",SUM(R45:R47))))","v":{"$error":"#REF!"}},{"$f":"IF(ISBLANK(I49),\" \",IF($Q$10=\"J\",I49,IF($Q$10=\"T\",E25,\" \")))","v":" "}]
[null,null,null,null,null,null,null,null,null,null,null,null,{"$f":"IF(C50=\"\",\"\",IF($Q$10=\"J\",C50,IF($Q$10=\"T\",C50,\"\")))","v":""},{"$f":"IF(#REF!=\"J\",D50,IF(#REF!=\"T\",D50,IF(SUM(N45:N48)=0,\"\",SUM(N45:N48))))","v":{"$error":"#REF!"}},{"$f":"IF(#REF!=\"J\",E50,IF(#REF!=\"T\",E50,IF(SUM(O45:O48)=0,\"\",SUM(O45:O48))))","v":{"$error":"#REF!"}},{"$f":"IF(#REF!=\"J\",F50,IF(#REF!=\"T\",F50,IF(SUM(P45:P48)=0,\"\",SUM(P45:P48))))","v":{"$error":"#REF!"}},{"$f":"IF(#REF!=\"J\",G50,IF(#REF!=\"T\",G50,IF(SUM(Q45:Q48)=0,\"\",SUM(Q45:Q48))))","v":{"$error":"#REF!"}},{"$f":"IF(#REF!=\"J\",H50,IF(#REF!=\"T\",H50,IF(SUM(R45:R48)=0,\"\",SUM(R45:R48))))","v":{"$error":"#REF!"}},{"$f":"IF(ISBLANK(I50),\" \",IF($Q$10=\"J\",I50,IF($Q$10=\"T\",E26,\" \")))","v":" "}]
[null,null,null,null,null,null,null,null,null,null,null,null,{"$f":"IF(C51=\"\",\"\",IF($Q$10=\"J\",C51,IF($Q$10=\"T\",C51,\"\")))","v":""},{"$f":"IF(#REF!=\"J\",D51,IF(#REF!=\"T\",D51,IF(SUM(N45:N49)=0,\"\",SUM(N45:N49))))","v":{"$error":"#REF!"}},{"$f":"IF(#REF!=\"J\",E51,IF(#REF!=\"T\",E51,IF(SUM(O45:O49)=0,\"\",SUM(O45:O49))))","v":{"$error":"#REF!"}},{"$f":"IF(#REF!=\"J\",F51,IF(#REF!=\"T\",F51,IF(SUM(P45:P49)=0,\"\",SUM(P45:P49))))","v":{"$error":"#REF!"}},{"$f":"IF(#REF!=\"J\",G51,IF(#REF!=\"T\",G51,IF(SUM(Q45:Q49)=0,\"\",SUM(Q45:Q49))))","v":{"$error":"#REF!"}},{"$f":"IF(#REF!=\"J\",H51,IF(#REF!=\"T\",H51,IF(SUM(R45:R49)=0,\"\",SUM(R45:R49))))","v":{"$error":"#REF!"}},{"$f":"IF(ISBLANK(I51),\" \",IF($Q$10=\"J\",I51,IF($Q$10=\"T\",E27,\" \")))","v":" "}]
[]
[null,"Summe Vorarbeiten . . .",null,null,null,null,null,"EUR",{"$f":"SUM(I49:I51)","v":0},null,null,"Summe Vorarbeiten . . .",null,null,null,null,null,"EUR",{"$f":"SUM(S49:S51)","v":0}]
[]
[null,null,null,null,null,null,"Förderbetrag Vorarbeiten . . .","EUR",{"$f":"I53*0.8","v":0},null,null,null,null,null,null,null,"Förderbetrag Vorarbeiten . . .","EUR",{"$f":"S53*0.8","v":0}]
[null,null,null,null,null,null,null,null,null,null,null,null,"(maximal der bewilligte Betrag) . . ."]
[]
[]
[null,"  Beantragte Wegebau-Maßnahmen",null,null,null,null,null,null,null,null,null,"  Beantragte Wegebau-Maßnahmen"]
[]
[null,null,"Antragspositionen",null,null,null,null,null,"Gesamt-\npreis in EUR\nohne MwSt",null,null,null,"Abgerechnete Positionen",null,null,null,null,null,"Gesamt-\npreis in EUR\nohne MwSt"]
[null,null,null,null,null,null,null,null,null,null,null,null,{"$f":"IF(C62=\"\",\"\",IF($Q$10=\"J\",C62,IF($Q$10=\"T\",C49,\"\")))","v":""},null,null,null,{"$f":"IF(#REF!=\"J\",C62,IF(#REF!=\"T\",C62,\"\"))","v":{"$error":"#REF!"}},{"$f":"IF(#REF!=\"J\",H62,IF(#REF!=\"T\",H62,\"\"))","v":{"$error":"#REF!"}},{"$f":"IF(ISBLANK(I62),\" \",IF($Q$10=\"J\",I62,IF($Q$10=\"T\",I62,\" \")))","v":" "}]
[null,null,null,null,null,null,null,null,null,null,null,null,"",null,null,null,{"$f":"IF(#REF!=\"J\",C63,IF(#REF!=\"T\",C63,\"\"))","v":{"$error":"#REF!"}},{"$f":"IF(#REF!=\"J\",H63,IF(#REF!=\"T\",H63,\"\"))","v":{"$error":"#REF!"}}," "]
[null,null,null,null,null,null,null,null,null,null,null,null,"",null,null,null,{"$f":"IF(#REF!=\"J\",C64,IF(#REF!=\"T\",C64,\"\"))","v":{"$error":"#REF!"}},{"$f":"IF(#REF!=\"J\",H64,IF(#REF!=\"T\",H64,\"\"))","v":{"$error":"#REF!"}}," "]
[null,null,null,null,null,null,null,null,null,null,null,null,"",null,null,null,{"$f":"IF(#REF!=\"J\",C65,IF(#REF!=\"T\",C65,\"\"))","v":{"$error":"#REF!"}},{"$f":"IF(#REF!=\"J\",H65,IF(#REF!=\"T\",H65,\"\"))","v":{"$error":"#REF!"}}," "]
[null,null,null,null,null,null,null,null,null,null,null,null,"",null,null,null,{"$f":"IF(#REF!=\"J\",C66,IF(#REF!=\"T\",C66,\"\"))","v":{"$error":"#REF!"}},{"$f":"IF(#REF!=\"J\",H66,IF(#REF!=\"T\",H66,\"\"))","v":{"$error":"#REF!"}}," "]
[null,null,null,null,null,null,null,null,null,null,null,null,"",null,null,null,{"$f":"IF(#REF!=\"J\",C67,IF(#REF!=\"T\",C67,\"\"))","v":{"$error":"#REF!"}},{"$f":"IF(#REF!=\"J\",H67,IF(#REF!=\"T\",H67,\"\"))","v":{"$error":"#REF!"}}," "]
[null,null,null,null,null,null,null,null,null,null,null,null,"",null,null,null,{"$f":"IF(#REF!=\"J\",C68,IF(#REF!=\"T\",C68,\"\"))","v":{"$error":"#REF!"}},{"$f":"IF(#REF!=\"J\",H68,IF(#REF!=\"T\",H68,\"\"))","v":{"$error":"#REF!"}}," "]
[null,null,null,null,null,null,null,null,null,null,null,null,"",null,null,null,{"$f":"IF(#REF!=\"J\",C69,IF(#REF!=\"T\",C69,\"\"))","v":{"$error":"#REF!"}},{"$f":"IF(#REF!=\"J\",H69,IF(#REF!=\"T\",H69,\"\"))","v":{"$error":"#REF!"}}," "]
[]
[]
[null,"Summe Baumaßnahme lt. Angebot . . .",null,null,null,null,null,"EUR",{"$f":"SUM(I62:I69)","v":0},null,null,"Summe Baumaßnahme lt. VN . . .",null,null,null,null,null,"EUR",{"$f":"SUM(S62:S69)","v":0}]
[]
[null,"Förderbetrag Baumaßnahme lt. Angebot . . .",null,null,null,null,null,"EUR",{"$f":"I72*0.8","v":0},null,null,"Förderbetrag Baumaßnahme lt. VN . . .",null,null,null,null,null,"EUR",{"$f":"S72*0.8","v":0}]
[]
[]
[]
[]
[null," II.  STELLUNGNAHME DER LEITUNG DES FBB",null,null,null,null,null,null,null,null,null," II.  STELLUNGNAHME DER LEITUNG DES FBB"]
[null,"  II.1.    Fachliche Stellungnahme",null,null,null,null,null,null,null,null,null,"  II.1.    Fachliche Stellungnahme (falls Abweichung)"]
[]
[]
[]
[null,null,"Das beantragte Vorhaben wird von mir für forstfachlich notwendig und zweckmäßig gehalten.",null,null,null,null,null,null,null,null,null,{"$f":"IF(ISBLANK($Q$10),\" \",IF($Q$10=\"J\",\"Die Änderung des Vorhabens wird von mir für forstfachlich notwendig und zweckmäßig gehalten.\",\n                                                   IF($Q$10=\"T\",\"Die Änderung des Vorhabens wird von mir für forstfachlich notwendig und zweckmäßig gehalten.\",\" \")))","v":" "}]
[]
[]
[null,null,"Ort, Datum",null,null,null,null,null,"Name und Unterschrift",null,null,null,"Ort, Datum",null,null,null,null,null,"Name und Unterschrift"]
[]
[null,"  II.2.    Bemerkungen",null,null,null,null,null,null,null,null,null,"  II.2.    Bemerkungen"]
[]
[]
[null,null,"Wurden Flächen zwecks"]
[null,null,"  Naturschutz dem Zuwendungsempfänger unentgeltlich "]
[null,null,"  übertragen?"]
[null,null,null,null,null,null,"  ja",null,"  nein"]
[]
[]
[]
[]
[]
[null,null,"Anlagen:\n- Karte mit eingezeichnetem Wegeverlauf",null,null,null,null,null,null,null,null,null,"\n\n\n\n\n\n"]
[]
[]
[]
[]
[]
[]
[]
[]
[]
[]
[]
[]
[]
[]
[]
[]
[]
[]
[]
[]
[]
[]
[]
[]
[]
[]
[]
[]
[]
[]
[]
[]
[]
[]
[]
[]
[]
[]
[]
[]
[]
[]
[]
[]
[]
[]
[]
[]
[]
[]
[]
[]
[]
[]
[]
[]
[]
[]
[]
[]
[]
[]
[]
[]
[]
[]
[]
[]
[]
[]
[]
[]
[]
[]
[]
[]
[]
[]
[]
[]
[]
[]
[]
[]
[]
[]
[]
[]
[]
[]
[]
[]
[]
[]
[]
[]
[]
[]
[]
[]
[]
[]
[]
[]
[]
[]
[]
[]
[]
[null,null,null,null,null,null,null,null,null,null,null,null,null,null,null,null,null,null,null,null,{"$f":"R23<=H23","v":true}]